BEGIN:VCALENDAR
VERSION:2.0
PRODID:spatie/icalendar-generator
DESCRIPTION:Veranstaltungen von Pfarrverband Aufkirchen
X-WR-CALDESC:Veranstaltungen von Pfarrverband Aufkirchen
REFRESH-INTERVAL;VALUE=DURATION:PT1440M
X-PUBLISHED-TTL:PT1440M
BEGIN:VTIMEZONE
TZID:Europe/Berlin
BEGIN:STANDARD
DTSTART:20141026T030000Z
TZOFFSETFROM:+0200
TZOFFSETTO:+0100
END:STANDARD
BEGIN:DAYLIGHT
DTSTART:20150329T020000Z
TZOFFSETFROM:+0100
TZOFFSETTO:+0200
END:DAYLIGHT
BEGIN:STANDARD
DTSTART:20151025T030000Z
TZOFFSETFROM:+0200
TZOFFSETTO:+0100
END:STANDARD
END:VTIMEZONE
BEGIN:VTIMEZONE
TZID:UTC
BEGIN:STANDARD
DTSTART:20250723T232854Z
TZOFFSETFROM:+0000
TZOFFSETTO:+0000
END:STANDARD
END:VTIMEZONE
BEGIN:VEVENT
UID:568-65
DTSTAMP:20260419T232854Z
SUMMARY:Maiandacht an der Huberkapelle
LOCATION:
ORGANIZER;CN=Heinz Diehl:MAILTO:heinz.diehl@pfarrgemeinde.hoehenrain.de
DTSTART;TZID=Europe/Berlin:20150529T193000
DTEND;TZID=Europe/Berlin:20150529T203000
X-ALT-DESC;FMTTYPE=TEXT/HTML:Maiandacht an der Huberkapelle in Aufhausen mi
 t der Kolpingsfamilie Höhenrain (bei Regen fällt die Maiandacht aus)
CATEGORIES:Kolpingsfamilie Höhenrain
URL;VALUE=URI:https://pfarrverband-aufkirchen.com/mc-events/maiandacht-an-d
 er-huberkapelle/?mc_id=568
END:VEVENT
END:VCALENDAR